BEGIN:VCALENDAR
VERSION:2.0
PRODID:-//TYPO3/NONSGML News system (news)//EN
BEGIN:VEVENT
UID:news-6348@www.millau.fr
DTSTAMP:20260420T170506
DTSTART:20260426T133000
DTEND:20260426T133000
SUMMARY:Rugby fédérale 2 : Millau reçoit Monaco 
CATEGORIES:Sports
DESCRIPTION:Dernier match de la phase régulière à domicile 
END:VEVENT
END:VCALENDAR