BEGIN:VCALENDAR
VERSION:2.0
PRODID:-//TYPO3/NONSGML News system (news)//EN
BEGIN:VEVENT
UID:news-6344@www.millau.fr
DTSTAMP:20260415T144711
DTSTART:20260425T180000
DTEND:20260425T180000
SUMMARY:Rencontre avec Elsa Hoffmann pour la sortie de son livre "Vivre dans un Écolieu" chez Syllabes
CATEGORIES:
DESCRIPTION:La librairie Syllabes a l’honneur d’accueillir le 25 
 avril à 18h Elsa Hoffmann pour son ouvrage Vivre dans un 
 Écolieu paru aux éditions Delachaux et Niestlé. 
END:VEVENT
END:VCALENDAR