BEGIN:VCALENDAR
VERSION:2.0
PRODID:-//TYPO3/NONSGML News system (news)//EN
BEGIN:VEVENT
UID:news-6347@www.millau.fr
DTSTAMP:20260420T103348
DTSTART:20260424T093000
DTEND:20260424T123000
SUMMARY:Ensemble contre le cancer : vente de roses
CATEGORIES:
DESCRIPTION:Une vente de roses par le Millau Moto Club sur le marché
END:VEVENT
END:VCALENDAR