BEGIN:VCALENDAR
VERSION:2.0
PRODID:-//TYPO3/NONSGML News system (news)//EN
BEGIN:VEVENT
UID:news-6346@www.millau.fr
DTSTAMP:20260416T155610
DTSTART:20260501T000000
DTEND:20260531T000000
SUMMARY:Défi sportif solidaire afin de faire une levée de fond pour l’association Trait d’union
CATEGORIES:Sports
DESCRIPTION:La maison de santé des ondes organise un défi sportif 
 solidaire afin de faire une levée de fond pour 
 l’association trait d’union !
END:VEVENT
END:VCALENDAR